BEGIN:VCALENDAR
VERSION:2.0
PRODID:-//Plone.org//NONSGML plone.app.event//EN
X-WR-TIMEZONE:Europe/Rome
BEGIN:VEVENT
SUMMARY:Programma Notte dei Ricercatori 2021 - Campus Rimini
DTSTART;TZID=Europe/Rome;VALUE=DATE-TIME:20210924T164500
DTEND;TZID=Europe/Rome;VALUE=DATE-TIME:20210924T230000
DTSTAMP;VALUE=DATE-TIME:20260426T045508Z
UID:0d92585c367f42a2b594b32fd429f875@scienzequalitavita.unibo.it
CREATED;VALUE=DATE-TIME:20210922T083512Z
DESCRIPTION:Scopri gli eventi proposti dal Dipartimenti e tutto il program
 ma del Campus di Rimini
LAST-MODIFIED;VALUE=DATE-TIME:20210922T083852Z
URL:https://scienzequalitavita.unibo.it/it/eventi/programma-notte-dei-rice
 rcatori-2021-campus-rimini
END:VEVENT
BEGIN:VTIMEZONE
TZID:Europe/Rome
X-LIC-LOCATION:Europe/Rome
BEGIN:DAYLIGHT
DTSTART;VALUE=DATE-TIME:20210328T030000
TZNAME:CEST
TZOFFSETFROM:+0100
TZOFFSETTO:+0200
END:DAYLIGHT
END:VTIMEZONE
END:VCALENDAR
