BEGIN:VCALENDAR
VERSION:2.0
PRODID:-//Plone.org//NONSGML plone.app.event//EN
X-WR-TIMEZONE:Europe/Rome
BEGIN:VEVENT
SUMMARY:Nutrizione e disabilità: i risultati del progetto ENNEADI
DTSTART;TZID=Europe/Rome;VALUE=DATE-TIME:20221019T100000
DTEND;TZID=Europe/Rome;VALUE=DATE-TIME:20221019T130000
DTSTAMP;VALUE=DATE-TIME:20260420T215539Z
UID:0ecd984a72e549a6a07b9a7c87b4858b@scienzequalitavita.unibo.it
CREATED;VALUE=DATE-TIME:20220921T084808Z
LAST-MODIFIED;VALUE=DATE-TIME:20220921T084809Z
URL:https://scienzequalitavita.unibo.it/it/eventi/nutrizione-e-disabilita-
 i-risultati-del-progetto-enneadi
END:VEVENT
BEGIN:VTIMEZONE
TZID:Europe/Rome
X-LIC-LOCATION:Europe/Rome
BEGIN:DAYLIGHT
DTSTART;VALUE=DATE-TIME:20220327T030000
TZNAME:CEST
TZOFFSETFROM:+0100
TZOFFSETTO:+0200
END:DAYLIGHT
END:VTIMEZONE
END:VCALENDAR
