BEGIN:VCALENDAR
VERSION:2.0
PRODID:-//Plone.org//NONSGML plone.app.event//EN
X-WR-TIMEZONE:Europe/Rome
BEGIN:VEVENT
SUMMARY:Nasce il Centro per l'interazione con le Industrie Culturali e Cre
 ative – CRICC
DTSTART;TZID=Europe/Rome;VALUE=DATE-TIME:20200909T190000
DTEND;TZID=Europe/Rome;VALUE=DATE-TIME:20200909T201500
DTSTAMP;VALUE=DATE-TIME:20260422T191854Z
UID:60ac0daa35d6429b9b30ee1e37f2e702@scienzequalitavita.unibo.it
CREATED;VALUE=DATE-TIME:20200908T075037Z
DESCRIPTION:Il Centro riunisce le linee di ricerca applicata afferenti ai 
 Dipartimenti DAR\, DA\, FICLIT\, DISI\, QuVi dell'Università di Bologna.
LAST-MODIFIED;VALUE=DATE-TIME:20200908T075412Z
URL:https://scienzequalitavita.unibo.it/it/eventi/nasce-il-centro-per-inte
 razione-con-le-industrie-culturali-e-creative-cricc
END:VEVENT
BEGIN:VTIMEZONE
TZID:Europe/Rome
X-LIC-LOCATION:Europe/Rome
BEGIN:DAYLIGHT
DTSTART;VALUE=DATE-TIME:20200329T030000
TZNAME:CEST
TZOFFSETFROM:+0100
TZOFFSETTO:+0200
END:DAYLIGHT
END:VTIMEZONE
END:VCALENDAR
